BEGIN:VCALENDAR
VERSION:2.0
PRODID:-//Mouvement Luxembourgeois pour la Qualité et l&#039;Excellence - ECPv6.15.16//NONSGML v1.0//EN
CALSCALE:GREGORIAN
METHOD:PUBLISH
X-WR-CALNAME:Mouvement Luxembourgeois pour la Qualité et l&#039;Excellence
X-ORIGINAL-URL:https://www.mlqe.lu
X-WR-CALDESC:Évènements pour Mouvement Luxembourgeois pour la Qualité et l&#039;Excellence
REFRESH-INTERVAL;VALUE=DURATION:PT1H
X-Robots-Tag:noindex
X-PUBLISHED-TTL:PT1H
BEGIN:VTIMEZONE
TZID:Europe/Paris
BEGIN:DAYLIGHT
TZOFFSETFROM:+0100
TZOFFSETTO:+0200
TZNAME:CEST
DTSTART:20200329T010000
END:DAYLIGHT
BEGIN:STANDARD
TZOFFSETFROM:+0200
TZOFFSETTO:+0100
TZNAME:CET
DTSTART:20201025T010000
END:STANDARD
BEGIN:DAYLIGHT
TZOFFSETFROM:+0100
TZOFFSETTO:+0200
TZNAME:CEST
DTSTART:20210328T010000
END:DAYLIGHT
BEGIN:STANDARD
TZOFFSETFROM:+0200
TZOFFSETTO:+0100
TZNAME:CET
DTSTART:20211031T010000
END:STANDARD
BEGIN:DAYLIGHT
TZOFFSETFROM:+0100
TZOFFSETTO:+0200
TZNAME:CEST
DTSTART:20220327T010000
END:DAYLIGHT
BEGIN:STANDARD
TZOFFSETFROM:+0200
TZOFFSETTO:+0100
TZNAME:CET
DTSTART:20221030T010000
END:STANDARD
END:VTIMEZONE
BEGIN:VEVENT
DTSTART;TZID=Europe/Paris:20210316T103000
DTEND;TZID=Europe/Paris:20210316T120000
DTSTAMP:20260425T130134
CREATED:20210210T132248Z
LAST-MODIFIED:20210406T121841Z
UID:10695-1615890600-1615896000@www.mlqe.lu
SUMMARY:Webinaire ISO from scratch (FR)
DESCRIPTION:ISO from scratch\nLe format « ISO from scratch » est une série de webinaires destinés à découvrir puis appréhender la mise en œuvre des normes ISO 9001-14001-45001 par le biais d’animations\, d’échanges et de partages d’expérience dans un cadre bienveillant au format table ronde. \nPrincipe\nCes 3 normes ont une structure commune et les exigences y relatives ne diffèrent que sur quelques points spécifiques. Le contenu des webinaires est donc transposable de l’une à l’autre dans la grande majorité des cas. \nEvolution\nLe contenu\, le fond et la forme du webinaire évoluent avec les besoins et attentes des participants exprimés ou découverts en séance\, à mesure de leur progression et de celle de leur entreprise. \nConditions\nCe format est réservé aux entreprises désirant découvrir ou mettre en œuvre l’un des systèmes de management ISO 9001\, 14001\, 45001. Compte tenu de la finalité même de cette série de webinaires et de la nature des participants ciblés\, les entreprises (membres ou non) offrant des prestations de conseil ou de formation sur ces normes sont invitées à ne pas participer et ce dans le but de dissocier cette activité du MLQE de toute démarche commerciale ultérieure par un tiers. Ce choix étant laissé à la libre appréciation des participants et de leur entreprise. \nLes membres sont prioritaires sur les places disponibles. \nEn raison du contexte sanitaire\, il se peut que les modalités soient adaptées\, modifiées. \nS’inscrire à cette session : cliquer ici\n\nGratuit pour les membres \nNon-membres : 1 séance de découverte\, 25 €
URL:https://www.mlqe.lu/event/webinr-ifs-fr-0321/
CATEGORIES:Table ronde
ATTACH;FMTTYPE=image/jpeg:https://www.mlqe.lu/wp-content/uploads/2021/02/Webinr_Ifs.jpg
END:VEVENT
END:VCALENDAR