BEGIN:VCALENDAR
VERSION:2.0
PRODID:-//Mouvement Luxembourgeois pour la Qualité et l&#039;Excellence - ECPv6.15.16//NONSGML v1.0//EN
CALSCALE:GREGORIAN
METHOD:PUBLISH
X-WR-CALNAME:Mouvement Luxembourgeois pour la Qualité et l&#039;Excellence
X-ORIGINAL-URL:https://www.mlqe.lu
X-WR-CALDESC:Évènements pour Mouvement Luxembourgeois pour la Qualité et l&#039;Excellence
REFRESH-INTERVAL;VALUE=DURATION:PT1H
X-Robots-Tag:noindex
X-PUBLISHED-TTL:PT1H
BEGIN:VTIMEZONE
TZID:Europe/Paris
BEGIN:DAYLIGHT
TZOFFSETFROM:+0100
TZOFFSETTO:+0200
TZNAME:CEST
DTSTART:20190331T010000
END:DAYLIGHT
BEGIN:STANDARD
TZOFFSETFROM:+0200
TZOFFSETTO:+0100
TZNAME:CET
DTSTART:20191027T010000
END:STANDARD
BEGIN:DAYLIGHT
TZOFFSETFROM:+0100
TZOFFSETTO:+0200
TZNAME:CEST
DTSTART:20200329T010000
END:DAYLIGHT
BEGIN:STANDARD
TZOFFSETFROM:+0200
TZOFFSETTO:+0100
TZNAME:CET
DTSTART:20201025T010000
END:STANDARD
BEGIN:DAYLIGHT
TZOFFSETFROM:+0100
TZOFFSETTO:+0200
TZNAME:CEST
DTSTART:20210328T010000
END:DAYLIGHT
BEGIN:STANDARD
TZOFFSETFROM:+0200
TZOFFSETTO:+0100
TZNAME:CET
DTSTART:20211031T010000
END:STANDARD
END:VTIMEZONE
BEGIN:VEVENT
DTSTART;TZID=Europe/Paris:20201026T093000
DTEND;TZID=Europe/Paris:20201027T170000
DTSTAMP:20260425T052647
CREATED:20200513T141536Z
LAST-MODIFIED:20200831T092943Z
UID:10138-1603704600-1603818000@www.mlqe.lu
SUMMARY:Formation qualifiante EFQM - Foundation
DESCRIPTION:Cette session s’inscrit dans le cadre d’un cycle de formations certifiantes dédié au modèle EFQM qui est structuré comme suit : \n\n– Une session de formation qualifiante « Foundation » et prérequis aux sessions suivantes\n– Une session de formation qualifiante « Organisational Change Leader »\n– Une session de formation qualifiante « Assessor »\n\nUne remise est accordée aux membres du MLQE. \n﻿﻿
URL:https://www.mlqe.lu/event/efqm-foundation-2020/
LOCATION:En ligne\, Luxembourg
CATEGORIES:Formations
ATTACH;FMTTYPE=image/jpeg:https://www.mlqe.lu/wp-content/uploads/2020/02/efqm-2020.jpg
ORGANIZER;CN="MLQE asbl":MAILTO:info@mlqe.lu
END:VEVENT
END:VCALENDAR