BEGIN:VCALENDAR
VERSION:2.0
PRODID:-//Mouvement Luxembourgeois pour la Qualité et l&#039;Excellence - ECPv6.15.16//NONSGML v1.0//EN
CALSCALE:GREGORIAN
METHOD:PUBLISH
X-ORIGINAL-URL:https://www.mlqe.lu
X-WR-CALDESC:Évènements pour Mouvement Luxembourgeois pour la Qualité et l&#039;Excellence
REFRESH-INTERVAL;VALUE=DURATION:PT1H
X-Robots-Tag:noindex
X-PUBLISHED-TTL:PT1H
BEGIN:VTIMEZONE
TZID:Europe/Paris
BEGIN:DAYLIGHT
TZOFFSETFROM:+0100
TZOFFSETTO:+0200
TZNAME:CEST
DTSTART:20190331T010000
END:DAYLIGHT
BEGIN:STANDARD
TZOFFSETFROM:+0200
TZOFFSETTO:+0100
TZNAME:CET
DTSTART:20191027T010000
END:STANDARD
BEGIN:DAYLIGHT
TZOFFSETFROM:+0100
TZOFFSETTO:+0200
TZNAME:CEST
DTSTART:20200329T010000
END:DAYLIGHT
BEGIN:STANDARD
TZOFFSETFROM:+0200
TZOFFSETTO:+0100
TZNAME:CET
DTSTART:20201025T010000
END:STANDARD
BEGIN:DAYLIGHT
TZOFFSETFROM:+0100
TZOFFSETTO:+0200
TZNAME:CEST
DTSTART:20210328T010000
END:DAYLIGHT
BEGIN:STANDARD
TZOFFSETFROM:+0200
TZOFFSETTO:+0100
TZNAME:CET
DTSTART:20211031T010000
END:STANDARD
END:VTIMEZONE
BEGIN:VEVENT
DTSTART;TZID=Europe/Paris:20200709T083000
DTEND;TZID=Europe/Paris:20200710T173000
DTSTAMP:20260425T021243
CREATED:20200514T081931Z
LAST-MODIFIED:20200514T090740Z
UID:10147-1594283400-1594402200@www.mlqe.lu
SUMMARY:Formation auditeur interne ISO 9001 - 09/07/2020
DESCRIPTION:DESCRIPTIF\nLa formation d’auditeur interne selon la norme ISO 9001 permet au responsable d’audit de professionnaliser son approche de la norme de référence internationale en systèmes de management. \nUne remise est accordée aux membres du MLQE. \n  \n﻿﻿﻿﻿
URL:https://www.mlqe.lu/event/formation-auditeur-interne-iso-9001-09-07-2020/
LOCATION:Chambre de Commerce\, 7 rue Alcide de Gasperi\, Luxembourg-Kirchberg\, L-2981\, Luxembourg
CATEGORIES:Formations
ATTACH;FMTTYPE=image/jpeg:https://www.mlqe.lu/wp-content/uploads/2020/02/learn-16-9.jpg
ORGANIZER;CN="MLQE asbl":MAILTO:info@mlqe.lu
END:VEVENT
END:VCALENDAR