BEGIN:VCALENDAR
VERSION:2.0
PRODID:-//Mouvement Luxembourgeois pour la Qualité et l&#039;Excellence - ECPv6.15.16//NONSGML v1.0//EN
CALSCALE:GREGORIAN
METHOD:PUBLISH
X-WR-CALNAME:Mouvement Luxembourgeois pour la Qualité et l&#039;Excellence
X-ORIGINAL-URL:https://www.mlqe.lu
X-WR-CALDESC:Évènements pour Mouvement Luxembourgeois pour la Qualité et l&#039;Excellence
REFRESH-INTERVAL;VALUE=DURATION:PT1H
X-Robots-Tag:noindex
X-PUBLISHED-TTL:PT1H
BEGIN:VTIMEZONE
TZID:Europe/Paris
BEGIN:DAYLIGHT
TZOFFSETFROM:+0100
TZOFFSETTO:+0200
TZNAME:CEST
DTSTART:20210328T010000
END:DAYLIGHT
BEGIN:STANDARD
TZOFFSETFROM:+0200
TZOFFSETTO:+0100
TZNAME:CET
DTSTART:20211031T010000
END:STANDARD
BEGIN:DAYLIGHT
TZOFFSETFROM:+0100
TZOFFSETTO:+0200
TZNAME:CEST
DTSTART:20220327T010000
END:DAYLIGHT
BEGIN:STANDARD
TZOFFSETFROM:+0200
TZOFFSETTO:+0100
TZNAME:CET
DTSTART:20221030T010000
END:STANDARD
BEGIN:DAYLIGHT
TZOFFSETFROM:+0100
TZOFFSETTO:+0200
TZNAME:CEST
DTSTART:20230326T010000
END:DAYLIGHT
BEGIN:STANDARD
TZOFFSETFROM:+0200
TZOFFSETTO:+0100
TZNAME:CET
DTSTART:20231029T010000
END:STANDARD
END:VTIMEZONE
BEGIN:VEVENT
DTSTART;TZID=Europe/Paris:20220419T103000
DTEND;TZID=Europe/Paris:20220419T120000
DTSTAMP:20260425T013006
CREATED:20220128T124703Z
LAST-MODIFIED:20220313T080220Z
UID:11653-1650364200-1650369600@www.mlqe.lu
SUMMARY:Webinaire ISO from scratch (Cycle 2022\, FR)
DESCRIPTION:ISO from scratch (Cycle 2022)\nDécouvrir le programme : cliquer ici\n« ISO from scratch » est une série de webinaires destinés à découvrir puis appréhender la mise en œuvre des normes ISO 9001-14001-45001 dans une dynamique de système intégré au service de la performance de l’entreprise. \nFormat : animations\, échanges et partages d’expérience dans un cadre bienveillant au format table ronde. \nPrincipe\nCes 3 normes ont une structure commune et les exigences y relatives ne diffèrent que sur quelques points spécifiques. Le contenu des webinaires est donc transposable de l’une à l’autre dans la grande majorité des cas et les points spécifiques sont identifiés. \nEvolution\nLe contenu\, le fond et la forme du webinaire évoluent avec les besoins et attentes des participants exprimés ou découverts en séance\, à mesure de leur progression et de celle de leur entreprise. \nConditions\n\n– Ce format est réservé aux entreprises désirant découvrir ou mettre en œuvre l’un des systèmes de management ISO 9001\, 14001\, 45001 ou s’en inspirer pour établir leur propre système.\n– Compte tenu de la finalité même de cette série de webinaires et de la nature des participants ciblés\, les entreprises (membres ou non) offrant des prestations de conseil ou de formation sur ces normes sont invitées à ne pas participer et ce dans le but de dissocier cette activité proposée par le MLQE de toute démarche commerciale ultérieure par un tiers. Ce choix étant laissé à la libre appréciation des participants et de leur entreprise.\n– Les membres sont prioritaires sur les places disponibles.\n– En raison du contexte sanitaire\, il se peut que les modalités soient adaptées\, modifiées.\n– L’accès au contenu e-learning est réservé aux membres à jour de cotisation et ayant participé à au moins 2 sessions du webinaire. L’accès peut-être révoqué à tout moment sans notification préalable (ex : la personne participant ne fait plus partie de l’entreprise membre\, l’entreprise n’est pas en règle avec sa cotisation\, la personne participant n’a pas suivi plus de 2 sessions sur le cycle\, …)\n\nS’inscrire à cette session : CLIQUER ICI\n\nGratuit pour les membres \nNon-membres : 1 séance de découverte gratuite puis 25 € à régler avant participation
URL:https://www.mlqe.lu/event/webinr-ifs-fr-0422/
CATEGORIES:Formations
ATTACH;FMTTYPE=image/jpeg:https://www.mlqe.lu/wp-content/uploads/2021/11/IFS2022.jpg
END:VEVENT
END:VCALENDAR