BEGIN:VCALENDAR
VERSION:2.0
PRODID:-//Mouvement Luxembourgeois pour la Qualité et l&#039;Excellence - ECPv6.15.16//NONSGML v1.0//EN
CALSCALE:GREGORIAN
METHOD:PUBLISH
X-WR-CALNAME:Mouvement Luxembourgeois pour la Qualité et l&#039;Excellence
X-ORIGINAL-URL:https://www.mlqe.lu
X-WR-CALDESC:Évènements pour Mouvement Luxembourgeois pour la Qualité et l&#039;Excellence
REFRESH-INTERVAL;VALUE=DURATION:PT1H
X-Robots-Tag:noindex
X-PUBLISHED-TTL:PT1H
BEGIN:VTIMEZONE
TZID:Europe/Paris
BEGIN:DAYLIGHT
TZOFFSETFROM:+0100
TZOFFSETTO:+0200
TZNAME:CEST
DTSTART:20200329T010000
END:DAYLIGHT
BEGIN:STANDARD
TZOFFSETFROM:+0200
TZOFFSETTO:+0100
TZNAME:CET
DTSTART:20201025T010000
END:STANDARD
BEGIN:DAYLIGHT
TZOFFSETFROM:+0100
TZOFFSETTO:+0200
TZNAME:CEST
DTSTART:20210328T010000
END:DAYLIGHT
BEGIN:STANDARD
TZOFFSETFROM:+0200
TZOFFSETTO:+0100
TZNAME:CET
DTSTART:20211031T010000
END:STANDARD
BEGIN:DAYLIGHT
TZOFFSETFROM:+0100
TZOFFSETTO:+0200
TZNAME:CEST
DTSTART:20220327T010000
END:DAYLIGHT
BEGIN:STANDARD
TZOFFSETFROM:+0200
TZOFFSETTO:+0100
TZNAME:CET
DTSTART:20221030T010000
END:STANDARD
END:VTIMEZONE
BEGIN:VEVENT
DTSTART;TZID=Europe/Paris:20210211T130000
DTEND;TZID=Europe/Paris:20210211T140000
DTSTAMP:20260424T203634
CREATED:20210118T122005Z
LAST-MODIFIED:20210120T114029Z
UID:10540-1613048400-1613052000@www.mlqe.lu
SUMMARY:Webinaire - Programmes et activités 2021
DESCRIPTION:Pour honorer cette nouvelle année\, le MLQE vous invite à un webinaire consacré à la présentation de son programme d’activités et de services. Ce sera également un moment de partage et d’échanges durant lequel vous pourrez poser les questions qui vous tiennent à cœur. \n \n\nGratuit  \nS’inscrire à cette session : cliquer ici
URL:https://www.mlqe.lu/event/webinaire-activites-2021/
CATEGORIES:Conférences
ORGANIZER;CN="MLQE asbl":MAILTO:info@mlqe.lu
END:VEVENT
END:VCALENDAR