BEGIN:VCALENDAR
VERSION:2.0
PRODID:-//Mouvement Luxembourgeois pour la Qualité et l&#039;Excellence - ECPv5.1.2.1//NONSGML v1.0//EN
CALSCALE:GREGORIAN
METHOD:PUBLISH
X-WR-CALNAME:Mouvement Luxembourgeois pour la Qualité et l&#039;Excellence
X-ORIGINAL-URL:https://www.mlqe.lu
X-WR-CALDESC:Évènements pour Mouvement Luxembourgeois pour la Qualité et l&#039;Excellence
BEGIN:VTIMEZONE
TZID:Europe/Paris
BEGIN:DAYLIGHT
TZOFFSETFROM:+0100
TZOFFSETTO:+0200
TZNAME:CEST
DTSTART:20210328T010000
END:DAYLIGHT
BEGIN:STANDARD
TZOFFSETFROM:+0200
TZOFFSETTO:+0100
TZNAME:CET
DTSTART:20211031T010000
END:STANDARD
END:VTIMEZONE
BEGIN:VEVENT
DTSTART;TZID=Europe/Paris:20210115T083000
DTEND;TZID=Europe/Paris:20210115T173000
DTSTAMP:20210721T192438
CREATED:20200213T145141Z
LAST-MODIFIED:20200220T154437Z
UID:9777-1610699400-1610731800@www.mlqe.lu
SUMMARY:Formation ISO 20400 - 15/01/2021
DESCRIPTION:DESCRIPTIF\nLa formation « Achat responsable » selon la norme ISO 20400 permet aux professionnels désireux d’intégrer des critères de développement durable ou de responsabiliser le processus d’achat\, de professionnaliser leur approche grâce à la norme internationale des « Achats Responsables ». \nDétail de la formation : cliquer ici \nS’inscrire à cette session : cliquer ici \n
URL:https://www.mlqe.lu/event/formation-iso-20400-15-01-2021/
LOCATION:Chambre de Commerce\, 7 rue Alcide de Gasperi\, Luxembourg-Kirchberg\, L-2981\, Luxembourg
CATEGORIES:Formations
ATTACH;FMTTYPE=image/jpeg:https://www.mlqe.lu/wp-content/uploads/2020/02/learn-16-9.jpg
ORGANIZER;CN="MLQE":MAILTO:info@mlqe.lu
END:VEVENT
END:VCALENDAR