BEGIN:VCALENDAR
VERSION:2.0
PRODID:-//Mouvement Luxembourgeois pour la Qualité et l&#039;Excellence - ECPv5.1.2.1//NONSGML v1.0//EN
CALSCALE:GREGORIAN
METHOD:PUBLISH
X-WR-CALNAME:Mouvement Luxembourgeois pour la Qualité et l&#039;Excellence
X-ORIGINAL-URL:https://www.mlqe.lu
X-WR-CALDESC:Évènements pour Mouvement Luxembourgeois pour la Qualité et l&#039;Excellence
BEGIN:VTIMEZONE
TZID:Europe/Paris
BEGIN:DAYLIGHT
TZOFFSETFROM:+0100
TZOFFSETTO:+0200
TZNAME:CEST
DTSTART:20200329T010000
END:DAYLIGHT
BEGIN:STANDARD
TZOFFSETFROM:+0200
TZOFFSETTO:+0100
TZNAME:CET
DTSTART:20201025T010000
END:STANDARD
END:VTIMEZONE
BEGIN:VEVENT
DTSTART;TZID=Europe/Paris:20200317T083000
DTEND;TZID=Europe/Paris:20200317T173000
DTSTAMP:20201211T050309
CREATED:20200213T142653Z
LAST-MODIFIED:20200226T064602Z
UID:9742-1584433800-1584466200@www.mlqe.lu
SUMMARY:Formation ISO 19011 - 17/03/2020
DESCRIPTION:DESCRIPTIF\nLa formation d’auditeur interne selon la norme ISO 19011 permet au responsable d’audit de professionnaliser ses audits grâce à la référence internationale des audits de systèmes de management. \nDétail de la formation : cliquer ici \nS’inscrire à cette session : cliquer ici \n
URL:https://www.mlqe.lu/event/formation-iso-19011-17-03-2020/
LOCATION:Lieu à définir\, Luxembourg-Kirchberg\, Luxembourg
CATEGORIES:Formations
ATTACH;FMTTYPE=image/jpeg:https://www.mlqe.lu/wp-content/uploads/2020/02/learn-16-9.jpg
ORGANIZER;CN="MLQE":MAILTO:info@mlqe.lu
END:VEVENT
END:VCALENDAR