BEGIN:VCALENDAR
VERSION:2.0
PRODID:-//Mouvement Luxembourgeois pour la Qualité et l&#039;Excellence - ECPv5.1.2.1//NONSGML v1.0//EN
CALSCALE:GREGORIAN
METHOD:PUBLISH
X-WR-CALNAME:Mouvement Luxembourgeois pour la Qualité et l&#039;Excellence
X-ORIGINAL-URL:https://www.mlqe.lu
X-WR-CALDESC:Évènements pour Mouvement Luxembourgeois pour la Qualité et l&#039;Excellence
BEGIN:VTIMEZONE
TZID:Europe/Paris
BEGIN:DAYLIGHT
TZOFFSETFROM:+0100
TZOFFSETTO:+0200
TZNAME:CEST
DTSTART:20200329T010000
END:DAYLIGHT
BEGIN:STANDARD
TZOFFSETFROM:+0200
TZOFFSETTO:+0100
TZNAME:CET
DTSTART:20201025T010000
END:STANDARD
END:VTIMEZONE
BEGIN:VEVENT
DTSTART;TZID=Europe/Paris:20201203T090000
DTEND;TZID=Europe/Paris:20201204T170000
DTSTAMP:20211006T140256
CREATED:20200515T075837Z
LAST-MODIFIED:20200831T092838Z
UID:10154-1606986000-1607101200@www.mlqe.lu
SUMMARY:Formation qualifiante EFQM - Organisational Change Leader
DESCRIPTION:Cette session s’inscrit dans le cadre d’un cycle de formations certifiantes dédié au modèle EFQM qui est structuré comme suit : \n\n– Une session de formation qualifiante “Foundation” et prérequis aux sessions suivantes\n– Une session de formation qualifiante “Organisational Change Leader”\n– Une session de formation qualifiante “Assessor”\n\nUne remise est accordée aux membres du MLQE. \n﻿﻿﻿ \n
URL:https://www.mlqe.lu/event/efqm-change-leader-2020/
LOCATION:Chambre de Commerce\, 7 rue Alcide de Gasperi\, Luxembourg-Kirchberg\, L-2981\, Luxembourg
CATEGORIES:Formations
ATTACH;FMTTYPE=image/jpeg:https://www.mlqe.lu/wp-content/uploads/2020/02/efqm-2020.jpg
ORGANIZER;CN="MLQE":MAILTO:info@mlqe.lu
END:VEVENT
END:VCALENDAR